BEGIN:VCALENDAR
VERSION:2.0
PRODID:-//FOSSIL FREE EUGENE - ECPv6.3.7//NONSGML v1.0//EN
CALSCALE:GREGORIAN
METHOD:PUBLISH
X-WR-CALNAME:FOSSIL FREE EUGENE
X-ORIGINAL-URL:https://fossilfreeeugene.org
X-WR-CALDESC:Events for FOSSIL FREE EUGENE
REFRESH-INTERVAL;VALUE=DURATION:PT1H
X-Robots-Tag:noindex
X-PUBLISHED-TTL:PT1H
BEGIN:VTIMEZONE
TZID:America/Los_Angeles
BEGIN:DAYLIGHT
TZOFFSETFROM:-0800
TZOFFSETTO:-0700
TZNAME:PDT
DTSTART:20250309T100000
END:DAYLIGHT
BEGIN:STANDARD
TZOFFSETFROM:-0700
TZOFFSETTO:-0800
TZNAME:PST
DTSTART:20251102T090000
END:STANDARD
BEGIN:DAYLIGHT
TZOFFSETFROM:-0800
TZOFFSETTO:-0700
TZNAME:PDT
DTSTART:20260308T100000
END:DAYLIGHT
BEGIN:STANDARD
TZOFFSETFROM:-0700
TZOFFSETTO:-0800
TZNAME:PST
DTSTART:20261101T090000
END:STANDARD
END:VTIMEZONE
BEGIN:VEVENT
DTSTART;TZID=America/Los_Angeles:20260124T100000
DTEND;TZID=America/Los_Angeles:20260124T120000
DTSTAMP:20260421T162351
CREATED:20251220T031641Z
LAST-MODIFIED:20251220T032124Z
UID:7977-1769248800-1769256000@fossilfreeeugene.org
SUMMARY:Winter Weatherization Workshop
DESCRIPTION:Join us to learn how to Stay Warm and Save Money! \nRegister HERE.
URL:https://fossilfreeeugene.org/event/winter-weatherization-workshop/
LOCATION:Eugene Public Library\, 100 W 10th Ave\, Eugene\, OR\, 97401\, United States
END:VEVENT
BEGIN:VEVENT
DTSTART;TZID=America/Los_Angeles:20251201T163000
DTEND;TZID=America/Los_Angeles:20251201T183000
DTSTAMP:20260421T162351
CREATED:20251110T033855Z
LAST-MODIFIED:20251110T033855Z
UID:7592-1764606600-1764613800@fossilfreeeugene.org
SUMMARY:Postcard Party & Public Comment Prep
DESCRIPTION:Join us to advocate for a new City Commissioner and EWEB General Manager who will prioritize making Eugene affordable and resilient in a changing climate. 
URL:https://fossilfreeeugene.org/event/postcard-party-public-comment-prep/
LOCATION:Claim 52\, 232 Lincoln St\, Eugene\, OR\, 97401\, United States
ORGANIZER;CN="Fossil Free Eugene":MAILTO:fossilfreeeugenecoordinator@gmail.com
END:VEVENT
BEGIN:VEVENT
DTSTART;TZID=America/Los_Angeles:20250724T180000
DTEND;TZID=America/Los_Angeles:20250724T193000
DTSTAMP:20260421T162351
CREATED:20250721T070509Z
LAST-MODIFIED:20250721T070604Z
UID:6983-1753380000-1753385400@fossilfreeeugene.org
SUMMARY:Beat the Heat & Smoke Workshop
DESCRIPTION:Join Fossil Free Eugene for a workshop on protecting yourself from the summer heat & smoke to stay cool and healthy in the summer season. \nThere will be presentations from Beyond Toxics\, the Springfield Eugene Tenant Association\, and The City of Eugene on information and resources you need to protect yourself from heat and smoke.  We will also have a hands-on DIY Workshop on how to build a home-made air purifier. \nParticipants will receive a free box fan\, $50 stipend\, and the opportunity to receive an emergency backpack raffle prize. To join this event you must RSVP through our online form. \n🗓️When: Thursday\, July 24th\, 6 – 7:30 pm\n📍Where: Our Redeemer Lutheran Church\, 255 Maxwell Road\, Eugene
URL:https://fossilfreeeugene.org/event/beat-the-heat-workshop/
LOCATION:Our Redeemer Lutheran Church\, 255 Maxwell Rd\, Eugene\, OR\, 97404\, United States
ORGANIZER;CN="Fossil Free Eugene":MAILTO:fossilfreeeugenecoordinator@gmail.com
END:VEVENT
END:VCALENDAR